BEGIN:VCALENDAR
VERSION:2.0
PRODID:-//Plone.org//NONSGML plone.app.event//EN
X-WR-TIMEZONE:America/Buenos_Aires
BEGIN:VEVENT
SUMMARY:Defesa de Dissertação - Mestrado em Energia e Sustentabilidade
DTSTART;TZID=America/Buenos_Aires;VALUE=DATE-TIME:20220729T140000
DTEND;TZID=America/Buenos_Aires;VALUE=DATE-TIME:20220729T160000
DTSTAMP;VALUE=DATE-TIME:20260423T225206Z
UID:c22911ba49374a33a59af26efdce625e@portal.unila.edu.br
CONTACT:https://meet.google.com/eag-rezw-vav
CREATED;VALUE=DATE-TIME:20220719T104403Z
DESCRIPTION:O mestrando Fernando David Cespedes Villalba defende sua disse
 rtação "Análise de rotas tecnológicas para o aproveitamento energétic
 o de resíduos gerados na indústria cervejeira"
LAST-MODIFIED;VALUE=DATE-TIME:20220719T104406Z
LOCATION:Online
URL:https://portal.unila.edu.br/eventos/defesa-de-dissertacao-mestrado-em-
 energia-e-sustentabilidade-2
END:VEVENT
BEGIN:VTIMEZONE
TZID:America/Buenos_Aires
X-LIC-LOCATION:America/Buenos_Aires
BEGIN:STANDARD
DTSTART;VALUE=DATE-TIME:20090314T230000
TZNAME:ART
TZOFFSETFROM:-0200
TZOFFSETTO:-0300
END:STANDARD
END:VTIMEZONE
END:VCALENDAR
