BEGIN:VCALENDAR
VERSION:2.0
PRODID:-//Plone.org//NONSGML plone.app.event//EN
X-WR-TIMEZONE:America/Buenos_Aires
BEGIN:VEVENT
SUMMARY:Defesa de Dissertação - Mestrado em Energia e Sustentabilidade
DTSTART;TZID=America/Buenos_Aires;VALUE=DATE-TIME:20220729T100000
DTEND;TZID=America/Buenos_Aires;VALUE=DATE-TIME:20220729T120000
DTSTAMP;VALUE=DATE-TIME:20260424T032327Z
UID:3382e996a76048b3951fa514d2ca588d@portal.unila.edu.br
CONTACT:https://meet.google.com/npe-naaq-tta
CREATED;VALUE=DATE-TIME:20220719T104039Z
DESCRIPTION:A mestranda Valentina Vasquez Arango defende sua dissertação
  "Avaliação do potencial de geração de biogás na codigiestão de deje
 tos bovinos e Hydrilla verticillata diluídos em lactossoro"
LAST-MODIFIED;VALUE=DATE-TIME:20220719T104042Z
LOCATION:Online
URL:https://portal.unila.edu.br/eventos/defesa-de-dissertacao-mestrado-em-
 energia-e-sustentabilidade-1
END:VEVENT
BEGIN:VTIMEZONE
TZID:America/Buenos_Aires
X-LIC-LOCATION:America/Buenos_Aires
BEGIN:STANDARD
DTSTART;VALUE=DATE-TIME:20090314T230000
TZNAME:ART
TZOFFSETFROM:-0200
TZOFFSETTO:-0300
END:STANDARD
END:VTIMEZONE
END:VCALENDAR
