BEGIN:VCALENDAR
VERSION:2.0
PRODID:-//Plone.org//NONSGML plone.app.event//EN
X-WR-TIMEZONE:America/Buenos_Aires
BEGIN:VEVENT
SUMMARY:Defesa de dissertação - Mestrado em Biociências
DTSTART;TZID=America/Buenos_Aires;VALUE=DATE-TIME:20251219T090000
DTSTAMP;VALUE=DATE-TIME:20260423T031147Z
UID:abd47ee848a742998044b83e19b06c79@portal.unila.edu.br
CATEGORIES:mestrado biociências
CREATED;VALUE=DATE-TIME:20251204T165437Z
DESCRIPTION:Defesa de dissertação da estudante Maria Esther Vivanco Suaz
 o será realizada no dia 19 de dezembro\, às 9h\, por videoconferência.
LAST-MODIFIED;VALUE=DATE-TIME:20251204T170129Z
URL:https://portal.unila.edu.br/eventos/defesa-de-dissertacao-mestrado-em-
 biociencias-22
END:VEVENT
BEGIN:VTIMEZONE
TZID:America/Buenos_Aires
X-LIC-LOCATION:America/Buenos_Aires
BEGIN:STANDARD
DTSTART;VALUE=DATE-TIME:20090314T230000
TZNAME:ART
TZOFFSETFROM:-0200
TZOFFSETTO:-0300
END:STANDARD
END:VTIMEZONE
END:VCALENDAR
