BEGIN:VCALENDAR
VERSION:2.0
PRODID:-//Plone.org//NONSGML plone.app.event//EN
X-WR-TIMEZONE:America/Buenos_Aires
BEGIN:VEVENT
SUMMARY:Defesa de Dissertação - Mestrado em Biociências
DTSTART;TZID=America/Buenos_Aires;VALUE=DATE-TIME:20221130T090000
DTEND;TZID=America/Buenos_Aires;VALUE=DATE-TIME:20221130T120000
DTSTAMP;VALUE=DATE-TIME:20260423T145828Z
UID:ed9750ee178a4190a8c86b1e993a383d@portal.unila.edu.br
CONTACT:https://portal.unila.edu.br/mestrado/biociencias/calendario/vigent
 e
CREATED;VALUE=DATE-TIME:20221125T195426Z
DESCRIPTION:Mestranda em Biociências\, Luciana Chiyo\, defende dissertaç
 ão
LAST-MODIFIED;VALUE=DATE-TIME:20221125T195433Z
LOCATION:Jardim Universitário e Remoto
URL:https://portal.unila.edu.br/eventos/defesa-de-dissertacao-mestrado-em-
 biociencias-12
END:VEVENT
BEGIN:VTIMEZONE
TZID:America/Buenos_Aires
X-LIC-LOCATION:America/Buenos_Aires
BEGIN:STANDARD
DTSTART;VALUE=DATE-TIME:20090314T230000
TZNAME:ART
TZOFFSETFROM:-0200
TZOFFSETTO:-0300
END:STANDARD
END:VTIMEZONE
END:VCALENDAR
