BEGIN:VCALENDAR
VERSION:2.0
PRODID:-//Plone.org//NONSGML plone.app.event//EN
X-WR-TIMEZONE:America/Buenos_Aires
BEGIN:VEVENT
SUMMARY:Defesa de Dissertação - Mestrado em Biociências
DTSTART;TZID=America/Buenos_Aires;VALUE=DATE-TIME:20220722T140000
DTEND;TZID=America/Buenos_Aires;VALUE=DATE-TIME:20220722T180000
DTSTAMP;VALUE=DATE-TIME:20260423T145828Z
UID:787f7818a67240119199f19d8dfd36e4@portal.unila.edu.br
CONTACT:https://portal.unila.edu.br/mestrado/biociencias/atividades/disser
 tacoes-publicacoes
CREATED;VALUE=DATE-TIME:20220722T130537Z
DESCRIPTION:A mestranda Taynara da Silva defende sua dissertação “O ef
 eito de microdoses de canabinoides nos sintomas neuropsiquiátricos\, sono
  e qualidade de vida na doença de Alzheimer: um ensaio clínico\, prospec
 tivo\, randomizado\, duplo-cego e controlado por placebo"
LAST-MODIFIED;VALUE=DATE-TIME:20220722T130541Z
LOCATION:Online
URL:https://portal.unila.edu.br/eventos/defesa-de-dissertacao-mestrado-em-
 biociencias-11
END:VEVENT
BEGIN:VTIMEZONE
TZID:America/Buenos_Aires
X-LIC-LOCATION:America/Buenos_Aires
BEGIN:STANDARD
DTSTART;VALUE=DATE-TIME:20090314T230000
TZNAME:ART
TZOFFSETFROM:-0200
TZOFFSETTO:-0300
END:STANDARD
END:VTIMEZONE
END:VCALENDAR
