BEGIN:VCALENDAR
VERSION:2.0
PRODID:-//Plone.org//NONSGML plone.app.event//EN
X-WR-TIMEZONE:America/Buenos_Aires
BEGIN:VEVENT
SUMMARY:Defesa de dissertação - Mestrado em Biociências
DTSTART;TZID=America/Sao_Paulo;VALUE=DATE-TIME:20201016T143000
DTEND;TZID=America/Sao_Paulo;VALUE=DATE-TIME:20201016T180000
DTSTAMP;VALUE=DATE-TIME:20260423T031149Z
UID:065c93830e194178a132dbbf9dc56b5f@portal.unila.edu.br
CATEGORIES:mestrado biociências
CREATED;VALUE=DATE-TIME:20201008T201016Z
DESCRIPTION:Aline Batista apresenta trabalho no dia 16 de outubro\, às 14
 h30
LAST-MODIFIED;VALUE=DATE-TIME:20201008T201914Z
URL:https://portal.unila.edu.br/eventos/defesa-de-dissertacao-mestrado-em-
 biociencias-1
END:VEVENT
BEGIN:VTIMEZONE
TZID:America/Sao_Paulo
X-LIC-LOCATION:America/Sao_Paulo
BEGIN:STANDARD
DTSTART;VALUE=DATE-TIME:20200215T230000
TZNAME:BRT
TZOFFSETFROM:-0200
TZOFFSETTO:-0300
END:STANDARD
END:VTIMEZONE
END:VCALENDAR
