BEGIN:VCALENDAR
VERSION:2.0
PRODID:-//Plone.org//NONSGML plone.app.event//EN
X-WR-TIMEZONE:America/Buenos_Aires
BEGIN:VEVENT
SUMMARY:Defesa de Dissertação de Mestrado - PPGIES
DTSTART;TZID=America/Buenos_Aires;VALUE=DATE-TIME:20260210T090000
DTSTAMP;VALUE=DATE-TIME:20260421T052337Z
UID:1e380cbcd77948fa856317fdcdc35cd2@portal.unila.edu.br
CATEGORIES:mestrado energia e sustentabilidade
CONTACT:meet.google.com/zam-dqkb-pdg
CREATED;VALUE=DATE-TIME:20260126T125434Z
DESCRIPTION:Defesa de dissertação de mestrado do discente Manuel Bendece
 ne Levene
LAST-MODIFIED;VALUE=DATE-TIME:20260126T125442Z
LOCATION:UNILA - Unidade Parquetec - B3E3S2
URL:https://portal.unila.edu.br/eventos/defesa-de-dissertacao-de-mestrado-
 ppgies
END:VEVENT
BEGIN:VTIMEZONE
TZID:America/Buenos_Aires
X-LIC-LOCATION:America/Buenos_Aires
BEGIN:STANDARD
DTSTART;VALUE=DATE-TIME:20090314T230000
TZNAME:ART
TZOFFSETFROM:-0200
TZOFFSETTO:-0300
END:STANDARD
END:VTIMEZONE
END:VCALENDAR
