BEGIN:VCALENDAR
VERSION:2.0
PRODID:-//Plone.org//NONSGML plone.app.event//EN
X-WR-TIMEZONE:America/Buenos_Aires
BEGIN:VEVENT
SUMMARY:Defesa de dissertação – Mestrado Interdisciplinar em Estudos L
 atino-Americanos
DTSTART;TZID=America/Sao_Paulo;VALUE=DATE-TIME:20210324T150000
DTEND;TZID=America/Sao_Paulo;VALUE=DATE-TIME:20210324T170000
DTSTAMP;VALUE=DATE-TIME:20260425T093510Z
UID:d2b268e472b34225834756759e170bc3@portal.unila.edu.br
CATEGORIES:mestrado estudos latino-americanos
CREATED;VALUE=DATE-TIME:20210312T131456Z
DESCRIPTION:Roger Adan Chambi Mayta apresenta trabalho no dia 24 de março
 \, às 15h
LAST-MODIFIED;VALUE=DATE-TIME:20210312T132251Z
URL:https://portal.unila.edu.br/eventos/defesa-de-dissertacao-2013-mestrad
 o-interdisciplinar-em-estudos-latino-americanos
END:VEVENT
BEGIN:VTIMEZONE
TZID:America/Sao_Paulo
X-LIC-LOCATION:America/Sao_Paulo
BEGIN:STANDARD
DTSTART;VALUE=DATE-TIME:20210220T230000
TZNAME:BRT
TZOFFSETFROM:-0200
TZOFFSETTO:-0300
END:STANDARD
END:VTIMEZONE
END:VCALENDAR
