BEGIN:VCALENDAR
VERSION:2.0
PRODID:-//Plone.org//NONSGML plone.app.event//EN
X-WR-TIMEZONE:America/Buenos_Aires
BEGIN:VEVENT
SUMMARY:Debate sobre orçamento participativo
DTSTART;TZID=America/Buenos_Aires;VALUE=DATE-TIME:20220414T160000
DTEND;TZID=America/Buenos_Aires;VALUE=DATE-TIME:20220414T170000
DTSTAMP;VALUE=DATE-TIME:20260423T224853Z
UID:4aad232f80e8415882514b7e2e378aa6@portal.unila.edu.br
CREATED;VALUE=DATE-TIME:20220414T192511Z
DESCRIPTION:Representantes estudiantiles del directorio de vivienda y UNIL
 A presentarán la propuesta para mejorar la provisión de ayuda comunitari
 a y abierta a discusión
LAST-MODIFIED;VALUE=DATE-TIME:20220414T192521Z
LOCATION:Auditório do Campus Integração
URL:https://portal.unila.edu.br/eventos/debate-sobre-orcamento-participati
 vo
END:VEVENT
BEGIN:VTIMEZONE
TZID:America/Buenos_Aires
X-LIC-LOCATION:America/Buenos_Aires
BEGIN:STANDARD
DTSTART;VALUE=DATE-TIME:20090314T230000
TZNAME:ART
TZOFFSETFROM:-0200
TZOFFSETTO:-0300
END:STANDARD
END:VTIMEZONE
END:VCALENDAR
