BEGIN:VCALENDAR
VERSION:2.0
PRODID:-//Plone.org//NONSGML plone.app.event//EN
X-WR-TIMEZONE:America/Buenos_Aires
BEGIN:VEVENT
SUMMARY:Date Cuenta
DTSTART;TZID=America/Buenos_Aires;VALUE=DATE-TIME:20221130T183000
DTEND;TZID=America/Buenos_Aires;VALUE=DATE-TIME:20221130T193000
DTSTAMP;VALUE=DATE-TIME:20260424T084037Z
UID:1341717b9d3c4ce19b373ba13c9f9414@portal.unila.edu.br
CREATED;VALUE=DATE-TIME:20221125T123824Z
DESCRIPTION:Projeto de Iniciação Científica "Interfaces: arte e saúde"
  apresentam sociodrama
LAST-MODIFIED;VALUE=DATE-TIME:20221125T123851Z
LOCATION:Jardim Unversitário - Sala C-115
URL:https://portal.unila.edu.br/eventos/date-cuenta
END:VEVENT
BEGIN:VTIMEZONE
TZID:America/Buenos_Aires
X-LIC-LOCATION:America/Buenos_Aires
BEGIN:STANDARD
DTSTART;VALUE=DATE-TIME:20090314T230000
TZNAME:ART
TZOFFSETFROM:-0200
TZOFFSETTO:-0300
END:STANDARD
END:VTIMEZONE
END:VCALENDAR
