BEGIN:VCALENDAR
VERSION:2.0
PRODID:-//Plone.org//NONSGML plone.app.event//EN
X-WR-TIMEZONE:America/Buenos_Aires
BEGIN:VEVENT
SUMMARY:Cursos de Francês e de Libras
DTSTART;VALUE=DATE:20251003
DTEND;VALUE=DATE:20251004
DTSTAMP;VALUE=DATE-TIME:20260424T031840Z
UID:1d0e9aa65eb649fa95690759bfdd129b@portal.unila.edu.br
CREATED;VALUE=DATE-TIME:20250926T212059Z
DESCRIPTION:Os cursos de Francês (online) e de Língua Brasileira de Sina
 is (semipresencial) são destinados a servidores. Ambos têm carga horári
 a de 30 horas.
LAST-MODIFIED;VALUE=DATE-TIME:20250926T214252Z
URL:https://portal.unila.edu.br/eventos/cursos-de-frances-e-de-libras
END:VEVENT
END:VCALENDAR
