BEGIN:VCALENDAR
VERSION:2.0
PRODID:-//Plone.org//NONSGML plone.app.event//EN
X-WR-TIMEZONE:America/Buenos_Aires
BEGIN:VEVENT
SUMMARY:Curso - Uso da Propriedade Intelectual nos Negócios de Base Tecno
 lógica
DTSTART;VALUE=DATE:20231002
DTEND;VALUE=DATE:20231003
DTSTAMP;VALUE=DATE-TIME:20260424T032722Z
UID:ca01694f82e44ae1a9e96c2f35e47b75@portal.unila.edu.br
CONTACT:https://academiavirtual.inpi.gov.br/moodle/login/index.php
CREATED;VALUE=DATE-TIME:20230927T165142Z
DESCRIPTION:O NIT-UNILA\, em parceria com o INPI\, divulga os curso de uso
  da propriedade intelectual\, que acontece durante o mês de outubro.
LAST-MODIFIED;VALUE=DATE-TIME:20230927T165545Z
LOCATION:Online
URL:https://portal.unila.edu.br/eventos/curso-uso-da-propriedade-intelectu
 al-nos-negocios-de-base-tecnologica
END:VEVENT
END:VCALENDAR
