BEGIN:VCALENDAR
VERSION:2.0
PRODID:-//Plone.org//NONSGML plone.app.event//EN
X-WR-TIMEZONE:America/Buenos_Aires
BEGIN:VEVENT
SUMMARY:Curso sobre a Tríplice Fronteira
DTSTART;TZID=America/Buenos_Aires;VALUE=DATE-TIME:20220420T170000
DTEND;TZID=America/Buenos_Aires;VALUE=DATE-TIME:20220420T190000
DTSTAMP;VALUE=DATE-TIME:20260422T154358Z
UID:4fa8a5f2bfb34ca7b140110513996350@portal.unila.edu.br
CONTACT:https://sig.unila.edu.br/sigaa/public/extensao/paginaListaPeriodos
 InscricoesAtividadesPublico.jsf
CREATED;VALUE=DATE-TIME:20220329T151158Z
DESCRIPTION:O Grupo de Pesquisa Sobre a Tríplice Fronteira\, da Unila\, a
 briu inscrições para o curso “A Tríplice Fronteira: uma abordagem int
 erdisciplinar da fronteira Argentina-Brasil-Paraguai”.
LAST-MODIFIED;VALUE=DATE-TIME:20220329T151312Z
LOCATION:Online
URL:https://portal.unila.edu.br/eventos/curso-sobre-a-triplice-fronteira
END:VEVENT
BEGIN:VTIMEZONE
TZID:America/Buenos_Aires
X-LIC-LOCATION:America/Buenos_Aires
BEGIN:STANDARD
DTSTART;VALUE=DATE-TIME:20090314T230000
TZNAME:ART
TZOFFSETFROM:-0200
TZOFFSETTO:-0300
END:STANDARD
END:VTIMEZONE
END:VCALENDAR
