BEGIN:VCALENDAR
VERSION:2.0
PRODID:-//Plone.org//NONSGML plone.app.event//EN
X-WR-TIMEZONE:America/Buenos_Aires
BEGIN:VEVENT
SUMMARY:Curso: "Projetando a casa dos sonhos"
DTSTART;TZID=America/Sao_Paulo;VALUE=DATE-TIME:20210818T190000
DTEND;TZID=America/Sao_Paulo;VALUE=DATE-TIME:20210818T200000
DTSTAMP;VALUE=DATE-TIME:20260423T224920Z
UID:a8edeb2dbced4c5bb518174c6839b612@portal.unila.edu.br
CATEGORIES:matemática
CREATED;VALUE=DATE-TIME:20210817T142648Z
DESCRIPTION:As inscrições devem ser feitas até o dia 19 de agosto\; as 
 aulas serão semanais\, na modalidade de ensino remoto
LAST-MODIFIED;VALUE=DATE-TIME:20210819T145821Z
URL:https://portal.unila.edu.br/eventos/curso-projetando-a-casa-dos-sonhos
END:VEVENT
BEGIN:VTIMEZONE
TZID:America/Sao_Paulo
X-LIC-LOCATION:America/Sao_Paulo
BEGIN:STANDARD
DTSTART;VALUE=DATE-TIME:20210220T230000
TZNAME:BRT
TZOFFSETFROM:-0200
TZOFFSETTO:-0300
END:STANDARD
END:VTIMEZONE
END:VCALENDAR
