BEGIN:VCALENDAR
VERSION:2.0
PRODID:-//Plone.org//NONSGML plone.app.event//EN
X-WR-TIMEZONE:America/Buenos_Aires
BEGIN:VEVENT
SUMMARY:Curso Preparatório para o Exame Celpe-Brás
DTSTART;VALUE=DATE:20240824
DTEND;VALUE=DATE:20240825
DTSTAMP;VALUE=DATE-TIME:20260423T224935Z
UID:89f9cc18e2e74097988367c332a4937b@portal.unila.edu.br
CONTACT:https://sig.unila.edu.br/sigaa/link/public/extensao/visualizacaoAc
 aoExtensao/91796460
CREATED;VALUE=DATE-TIME:20240814T160346Z
DESCRIPTION:Curso preparatório inicia no dia 24 de agosto e termina em 21
  de setembro\; inscrições vão até o dia 21 de agosto.
LAST-MODIFIED;VALUE=DATE-TIME:20240814T160358Z
URL:https://portal.unila.edu.br/eventos/curso-preparatorio-para-o-exame-ce
 lpe-bras
END:VEVENT
END:VCALENDAR
