BEGIN:VCALENDAR
VERSION:2.0
PRODID:-//Plone.org//NONSGML plone.app.event//EN
X-WR-TIMEZONE:America/Buenos_Aires
BEGIN:VEVENT
SUMMARY:Curso: Políticas docentes e o atual contexto de reforma dos curso
 s de Licenciatura no Brasil
DTSTART;VALUE=DATE:20241104
DTEND;VALUE=DATE:20241106
DTSTAMP;VALUE=DATE-TIME:20260424T010822Z
UID:d7f291a85ef54b58bc3bce1f86b4a30c@portal.unila.edu.br
CREATED;VALUE=DATE-TIME:20241017T115022Z
DESCRIPTION:Curso de capacitação ocorrerá nos dias 4 e 5 de novembro
LAST-MODIFIED;VALUE=DATE-TIME:20241017T115027Z
LOCATION:UNILA - Jardim Universitário - Sala C-308
URL:https://portal.unila.edu.br/eventos/curso-politicas-docentes-e-o-atual
 -contexto-de-reforma-dos-cursos-de-licenciatura-no-brasil
END:VEVENT
END:VCALENDAR
