BEGIN:VCALENDAR
VERSION:2.0
PRODID:-//Plone.org//NONSGML plone.app.event//EN
X-WR-TIMEZONE:America/Buenos_Aires
BEGIN:VEVENT
SUMMARY:Curso Gratuito De Desenho Realista
DTSTART;TZID=America/Buenos_Aires;VALUE=DATE-TIME:20260406T140000
DTEND;TZID=America/Buenos_Aires;VALUE=DATE-TIME:20261130T170000
DTSTAMP;VALUE=DATE-TIME:20260420T205114Z
UID:f12221de377b484087dc3a288f5d4ec3@portal.unila.edu.br
CATEGORIES:proex
CATEGORIES:ilaach
CATEGORIES:estudantes
CATEGORIES:servidores
CATEGORIES:comunidade
CONTACT:https://inscreva.unila.edu.br/events/3356/subscriptions/new
CREATED;VALUE=DATE-TIME:20260330T195808Z
DESCRIPTION:Estão abertas as inscrições para a oficina gratuita de dese
 nho realista “Rostos da Integração: arte como expressão cultural”. 
 Aulas começam no dia 6 de abril.
LAST-MODIFIED;VALUE=DATE-TIME:20260331T200254Z
LOCATION:sala C-113 JU
URL:https://portal.unila.edu.br/eventos/curso-gratuito-de-desenho-realista
END:VEVENT
BEGIN:VTIMEZONE
TZID:America/Buenos_Aires
X-LIC-LOCATION:America/Buenos_Aires
BEGIN:STANDARD
DTSTART;VALUE=DATE-TIME:20090314T230000
TZNAME:ART
TZOFFSETFROM:-0200
TZOFFSETTO:-0300
END:STANDARD
END:VTIMEZONE
END:VCALENDAR
