BEGIN:VCALENDAR
VERSION:2.0
PRODID:-//Plone.org//NONSGML plone.app.event//EN
X-WR-TIMEZONE:America/Buenos_Aires
BEGIN:VEVENT
SUMMARY:Curso - Ferramentas Digitais e Metodologias Ativas para o Ensino d
 e Matemática nos Anos Finais
DTSTART;VALUE=DATE:20231120
DTEND;VALUE=DATE:20231121
DTSTAMP;VALUE=DATE-TIME:20260424T113448Z
UID:04f494f8076442169dfe206db9326bcc@portal.unila.edu.br
CONTACT:https://docs.google.com/forms/d/e/1FAIpQLSe72LTilEnuejYDGP_Tigigvj
 XPZIZ5o86Ee0Ue0GQ5JVLGYg/viewform
CREATED;VALUE=DATE-TIME:20231103T160003Z
DESCRIPTION:Inscrições do curso podem ser realizadas até o dia 20 de no
 vembro.
LAST-MODIFIED;VALUE=DATE-TIME:20231123T172009Z
LOCATION:UNILA-Campus Integração
URL:https://portal.unila.edu.br/eventos/curso-ferramentas-digitais-e-metod
 ologias-ativas-para-o-ensino-de-matematica-nos-anos-finais
END:VEVENT
END:VCALENDAR
