BEGIN:VCALENDAR
VERSION:2.0
PRODID:-//Plone.org//NONSGML plone.app.event//EN
X-WR-TIMEZONE:America/Buenos_Aires
BEGIN:VEVENT
SUMMARY:Curso de Língua e Cultura Ticuna
DTSTART;VALUE=DATE:20250128
DTEND;VALUE=DATE:20250129
DTSTAMP;VALUE=DATE-TIME:20260423T224915Z
UID:e13032843f3a4044a0a6acaa48fd29d4@portal.unila.edu.br
CREATED;VALUE=DATE-TIME:20250117T112447Z
DESCRIPTION:Primeiro dos quatro encontros presenciais do Curso Básico de 
 Língua e Cultura Ticuna está programado para 28 de janeiro. Atividade é
  voltada às comunidades interna e externa e está com inscrições aberta
 s.
LAST-MODIFIED;VALUE=DATE-TIME:20250117T112505Z
LOCATION:UNILA - Campus Integração
URL:https://portal.unila.edu.br/eventos/curso-de-lingua-e-cultura-ticuna
END:VEVENT
END:VCALENDAR
