BEGIN:VCALENDAR
VERSION:2.0
PRODID:-//Plone.org//NONSGML plone.app.event//EN
X-WR-TIMEZONE:America/Buenos_Aires
BEGIN:VEVENT
SUMMARY:Curso de Jornalismo Humanitário
DTSTART;VALUE=DATE:20230921
DTEND;VALUE=DATE:20230922
DTSTAMP;VALUE=DATE-TIME:20260424T084457Z
UID:5026f0c68ef1484b9fd72ce9bbaffb23@portal.unila.edu.br
CREATED;VALUE=DATE-TIME:20230824T124156Z
DESCRIPTION:Cátedra Sérgio Vieira de Mello (UNILA-ACNUR) promove curso d
 e jornalismo humanitário no dia 21 de setembro
LAST-MODIFIED;VALUE=DATE-TIME:20230824T124751Z
LOCATION:UNILA
URL:https://portal.unila.edu.br/eventos/curso-de-jornalismo-humanitario
END:VEVENT
END:VCALENDAR
