BEGIN:VCALENDAR
VERSION:2.0
PRODID:-//Plone.org//NONSGML plone.app.event//EN
X-WR-TIMEZONE:America/Buenos_Aires
BEGIN:VEVENT
SUMMARY:Curso de extensión: "Línguas e culturas para a integração – 
 Português como Língua Estrangeira para migrantes e refugiados(as)”
DTSTART;TZID=America/Buenos_Aires;VALUE=DATE-TIME:20220302T191500
DTEND;TZID=America/Buenos_Aires;VALUE=DATE-TIME:20220302T201500
DTSTAMP;VALUE=DATE-TIME:20260423T104434Z
UID:9f72279cc36c41cd8df5f1126ccffa59@portal.unila.edu.br
CREATED;VALUE=DATE-TIME:20220211T141010Z
DESCRIPTION:Las actividades se desarrollarán de marzo a mayo\, parcialmen
 te online
LAST-MODIFIED;VALUE=DATE-TIME:20220222T193340Z
URL:https://portal.unila.edu.br/eventos/curso-de-extension-linguas-e-cultu
 ras-para-a-integracao-2013-portugues-como-lingua-estrangeira-para-migrante
 s-e-refugiados-as-201d
END:VEVENT
BEGIN:VTIMEZONE
TZID:America/Buenos_Aires
X-LIC-LOCATION:America/Buenos_Aires
BEGIN:STANDARD
DTSTART;VALUE=DATE-TIME:20090314T230000
TZNAME:ART
TZOFFSETFROM:-0200
TZOFFSETTO:-0300
END:STANDARD
END:VTIMEZONE
END:VCALENDAR
