BEGIN:VCALENDAR
VERSION:2.0
PRODID:-//Plone.org//NONSGML plone.app.event//EN
X-WR-TIMEZONE:America/Buenos_Aires
BEGIN:VEVENT
SUMMARY:Curso de Extensão: Mente em Movimento
DTSTART;TZID=America/Buenos_Aires;VALUE=DATE-TIME:20231027T133000
DTSTAMP;VALUE=DATE-TIME:20260424T031856Z
UID:3ea6846664ef4d9c8bbc1a3388ff2286@portal.unila.edu.br
CONTACT:https://sig.unila.edu.br/eventos/public/evento/MMUJPNMACOA2023
CREATED;VALUE=DATE-TIME:20230926T124937Z
DESCRIPTION:Curso de Extensão "Mente em Movimento: Uma Jornada Psiquiátr
 ica do Nascimento à Morte através do Cinema e outras Artes" acontece dur
 ante mês de setembro e outubro.
LAST-MODIFIED;VALUE=DATE-TIME:20230926T124944Z
LOCATION:UNILA-Jardim Universitário - Sala C-208
URL:https://portal.unila.edu.br/eventos/curso-de-extensao-mente-em-movimen
 to
END:VEVENT
BEGIN:VTIMEZONE
TZID:America/Buenos_Aires
X-LIC-LOCATION:America/Buenos_Aires
BEGIN:STANDARD
DTSTART;VALUE=DATE-TIME:20090314T230000
TZNAME:ART
TZOFFSETFROM:-0200
TZOFFSETTO:-0300
END:STANDARD
END:VTIMEZONE
END:VCALENDAR
