BEGIN:VCALENDAR
VERSION:2.0
PRODID:-//Plone.org//NONSGML plone.app.event//EN
X-WR-TIMEZONE:America/Buenos_Aires
BEGIN:VEVENT
SUMMARY:Curso de Extensão: Introdução à Computação Quântica
DTSTART;TZID=America/Buenos_Aires;VALUE=DATE-TIME:20230315T180000
DTEND;TZID=America/Buenos_Aires;VALUE=DATE-TIME:20230328T200000
DTSTAMP;VALUE=DATE-TIME:20260424T084042Z
UID:2d89eb58397844309540aaefc4853fa5@portal.unila.edu.br
CATEGORIES:extensão
CONTACT:https://sig.unila.edu.br/sigaa/public/extensao/paginaListaPeriodos
 InscricoesAtividadesPublico.jsf?aba=p-extensao
CREATED;VALUE=DATE-TIME:20230306T181208Z
DESCRIPTION:Inscrições devem ser feitas pelo SIGAA até o dia 10 de mar
 ço
LAST-MODIFIED;VALUE=DATE-TIME:20230306T181323Z
LOCATION:Remoto
URL:https://portal.unila.edu.br/eventos/curso-de-extensao-introducao-a-com
 putacao-quantica
END:VEVENT
BEGIN:VTIMEZONE
TZID:America/Buenos_Aires
X-LIC-LOCATION:America/Buenos_Aires
BEGIN:STANDARD
DTSTART;VALUE=DATE-TIME:20090314T230000
TZNAME:ART
TZOFFSETFROM:-0200
TZOFFSETTO:-0300
END:STANDARD
END:VTIMEZONE
END:VCALENDAR
