BEGIN:VCALENDAR
VERSION:2.0
PRODID:-//Plone.org//NONSGML plone.app.event//EN
X-WR-TIMEZONE:America/Buenos_Aires
BEGIN:VEVENT
SUMMARY:Curso de extensão: Da ideia ao Argumento
DTSTART;TZID=America/Buenos_Aires;VALUE=DATE-TIME:20241015T183000
DTSTAMP;VALUE=DATE-TIME:20260423T210121Z
UID:f0af07a960274421b825d9f7fcdac3e4@portal.unila.edu.br
CREATED;VALUE=DATE-TIME:20241007T170847Z
DESCRIPTION:Curso voltado para estudantes e profissionais de cinema\, comu
 nicação e artes começa em 15 de outubro\, no formato remoto\, e termina
  em 28 de fevereiro
LAST-MODIFIED;VALUE=DATE-TIME:20241007T171127Z
URL:https://portal.unila.edu.br/eventos/curso-de-extensao-da-ideia-ao-argu
 mento
END:VEVENT
BEGIN:VTIMEZONE
TZID:America/Buenos_Aires
X-LIC-LOCATION:America/Buenos_Aires
BEGIN:STANDARD
DTSTART;VALUE=DATE-TIME:20090314T230000
TZNAME:ART
TZOFFSETFROM:-0200
TZOFFSETTO:-0300
END:STANDARD
END:VTIMEZONE
END:VCALENDAR
