BEGIN:VCALENDAR
VERSION:2.0
PRODID:-//Plone.org//NONSGML plone.app.event//EN
X-WR-TIMEZONE:America/Buenos_Aires
BEGIN:VEVENT
SUMMARY:Curso de extensão: “A questão penitenciária na América Latin
 a: história\, literatura e direito”
DTSTART;TZID=America/Sao_Paulo;VALUE=DATE-TIME:20210331T180000
DTEND;TZID=America/Sao_Paulo;VALUE=DATE-TIME:20210331T193000
DTSTAMP;VALUE=DATE-TIME:20260424T010320Z
UID:5760199d5bf8486fabe7ad05002e5c45@portal.unila.edu.br
CREATED;VALUE=DATE-TIME:20210322T152635Z
DESCRIPTION:As aulas serão quinzenais\, de 31 de março a 30 de junho\, n
 a modalidade de ensino remoto\; as inscrições se encerram dia 30 de mar
 ço
LAST-MODIFIED;VALUE=DATE-TIME:20210405T164430Z
URL:https://portal.unila.edu.br/eventos/curso-de-extensao-201ca-questao-pe
 nitenciaria-na-america-latina-historia-literatura-e-direito201d
END:VEVENT
BEGIN:VTIMEZONE
TZID:America/Sao_Paulo
X-LIC-LOCATION:America/Sao_Paulo
BEGIN:STANDARD
DTSTART;VALUE=DATE-TIME:20210220T230000
TZNAME:BRT
TZOFFSETFROM:-0200
TZOFFSETTO:-0300
END:STANDARD
END:VTIMEZONE
END:VCALENDAR
