BEGIN:VCALENDAR
VERSION:2.0
PRODID:-//Plone.org//NONSGML plone.app.event//EN
X-WR-TIMEZONE:America/Buenos_Aires
BEGIN:VEVENT
SUMMARY:Curso: "Cultura y Lengua Maya - RI JOTAYIN KINA'OJIL QATI'T QAMAMA
 '"
DTSTART;TZID=America/Sao_Paulo;VALUE=DATE-TIME:20191109T090000
DTEND;TZID=America/Sao_Paulo;VALUE=DATE-TIME:20191109T100000
DTSTAMP;VALUE=DATE-TIME:20260419T221544Z
UID:7ff80452e3c0435ab7430a77e5103554@portal.unila.edu.br
CREATED;VALUE=DATE-TIME:20191029T170222Z
DESCRIPTION:Con una propuesta de difusión de la cultura maya\, el curso s
 e realiza del 9 al 30 de noviembre
LAST-MODIFIED;VALUE=DATE-TIME:20191101T202225Z
LOCATION:UNILA-Jardim Universitário (Avenida Tarquínio Joslin dos Santos
 \, 1000)
URL:https://portal.unila.edu.br/eventos/curso-cultura-y-lengua-maya-ri-jot
 ayin-kinaojil-qatit-qamama
END:VEVENT
BEGIN:VTIMEZONE
TZID:America/Sao_Paulo
X-LIC-LOCATION:America/Sao_Paulo
BEGIN:DAYLIGHT
DTSTART;VALUE=DATE-TIME:20191020T010000
TZNAME:BRST
TZOFFSETFROM:-0300
TZOFFSETTO:-0200
END:DAYLIGHT
END:VTIMEZONE
END:VCALENDAR
