BEGIN:VCALENDAR
VERSION:2.0
PRODID:-//Plone.org//NONSGML plone.app.event//EN
X-WR-TIMEZONE:America/Buenos_Aires
BEGIN:VEVENT
SUMMARY:Curso "Breve História das Cataratas: antes de Santos Dumont"
DTSTART;TZID=America/Buenos_Aires;VALUE=DATE-TIME:20240913T190000
DTSTAMP;VALUE=DATE-TIME:20260423T225513Z
UID:72b8ac9c6dd74564a2dbedf9fde08eb1@portal.unila.edu.br
CREATED;VALUE=DATE-TIME:20240904T135248Z
DESCRIPTION:O curso de extensão “Breve História das Cataratas: antes d
 e Santos Dumont” oferece uma oportunidade de explorar registros históri
 cos das Cataratas.
LAST-MODIFIED;VALUE=DATE-TIME:20240904T140540Z
LOCATION:Online e Presencial
URL:https://portal.unila.edu.br/eventos/curso-breve-historia-das-cataratas
 -antes-de-santos-dumont
END:VEVENT
BEGIN:VTIMEZONE
TZID:America/Buenos_Aires
X-LIC-LOCATION:America/Buenos_Aires
BEGIN:STANDARD
DTSTART;VALUE=DATE-TIME:20090314T230000
TZNAME:ART
TZOFFSETFROM:-0200
TZOFFSETTO:-0300
END:STANDARD
END:VTIMEZONE
END:VCALENDAR
