BEGIN:VCALENDAR
VERSION:2.0
PRODID:-//Plone.org//NONSGML plone.app.event//EN
X-WR-TIMEZONE:America/Buenos_Aires
BEGIN:VEVENT
SUMMARY:Curso Aulas de Defesa Pessoal
DTSTART;TZID=America/Buenos_Aires;VALUE=DATE-TIME:20241112T190000
DTSTAMP;VALUE=DATE-TIME:20260423T225013Z
UID:aebb0baaf093422294f457cd3a6a8ff5@portal.unila.edu.br
CREATED;VALUE=DATE-TIME:20241121T165124Z
DESCRIPTION:Com o tema "Fuerte como una chica"\, o curso é direcionado a 
 mulheres.
LAST-MODIFIED;VALUE=DATE-TIME:20241121T170250Z
URL:https://portal.unila.edu.br/eventos/curso-aulas-de-defesa-pessoal
END:VEVENT
BEGIN:VTIMEZONE
TZID:America/Buenos_Aires
X-LIC-LOCATION:America/Buenos_Aires
BEGIN:STANDARD
DTSTART;VALUE=DATE-TIME:20090314T230000
TZNAME:ART
TZOFFSETFROM:-0200
TZOFFSETTO:-0300
END:STANDARD
END:VTIMEZONE
END:VCALENDAR
