BEGIN:VCALENDAR
VERSION:2.0
PRODID:-//Plone.org//NONSGML plone.app.event//EN
X-WR-TIMEZONE:America/Buenos_Aires
BEGIN:VEVENT
SUMMARY:Curso: "A Matemática da Pandemia"
DTSTART;TZID=America/Sao_Paulo;VALUE=DATE-TIME:20210819T170000
DTEND;TZID=America/Sao_Paulo;VALUE=DATE-TIME:20210819T180000
DTSTAMP;VALUE=DATE-TIME:20260424T031840Z
UID:cafe39fc2d694198ab716d6ef8aabe38@portal.unila.edu.br
CATEGORIES:matemática
CREATED;VALUE=DATE-TIME:20210813T174536Z
DESCRIPTION:Projeto de ensino organizado por estudantes do curso de Matem
 ática será realizado entre 19 de agosto e 17 de setembro
LAST-MODIFIED;VALUE=DATE-TIME:20210817T133600Z
URL:https://portal.unila.edu.br/eventos/curso-a-matematica-da-pandemia
END:VEVENT
BEGIN:VTIMEZONE
TZID:America/Sao_Paulo
X-LIC-LOCATION:America/Sao_Paulo
BEGIN:STANDARD
DTSTART;VALUE=DATE-TIME:20210220T230000
TZNAME:BRT
TZOFFSETFROM:-0200
TZOFFSETTO:-0300
END:STANDARD
END:VTIMEZONE
END:VCALENDAR
