BEGIN:VCALENDAR
VERSION:2.0
PRODID:-//Plone.org//NONSGML plone.app.event//EN
X-WR-TIMEZONE:America/Buenos_Aires
BEGIN:VEVENT
SUMMARY:Curso: "A construção de casas e a etnomatemática: uma aproxima
 ção com o cotidiano"
DTSTART;TZID=America/Sao_Paulo;VALUE=DATE-TIME:20210821T140000
DTEND;TZID=America/Sao_Paulo;VALUE=DATE-TIME:20210821T150000
DTSTAMP;VALUE=DATE-TIME:20260424T112302Z
UID:dbacd3f468dc4f5e9145ff43124d9402@portal.unila.edu.br
CATEGORIES:matemática
CREATED;VALUE=DATE-TIME:20210817T145045Z
DESCRIPTION:As aulas serão semanais\, entre 21 de agosto e 18 de setembro
 \; inscrições até este sábado (21)
LAST-MODIFIED;VALUE=DATE-TIME:20210823T120821Z
URL:https://portal.unila.edu.br/eventos/curso-a-construcao-de-casas-e-a-et
 nomatematica-uma-aproximacao-do-cotidiano
END:VEVENT
BEGIN:VTIMEZONE
TZID:America/Sao_Paulo
X-LIC-LOCATION:America/Sao_Paulo
BEGIN:STANDARD
DTSTART;VALUE=DATE-TIME:20210220T230000
TZNAME:BRT
TZOFFSETFROM:-0200
TZOFFSETTO:-0300
END:STANDARD
END:VTIMEZONE
END:VCALENDAR
