BEGIN:VCALENDAR
VERSION:2.0
PRODID:-//Plone.org//NONSGML plone.app.event//EN
X-WR-TIMEZONE:America/Buenos_Aires
BEGIN:VEVENT
SUMMARY:Cultura paraguaya - Muestra de cortometraje\, ronda de debate y le
 ctura de poesía
DTSTART;TZID=America/Buenos_Aires;VALUE=DATE-TIME:20240823T173000
DTSTAMP;VALUE=DATE-TIME:20260424T113448Z
UID:079740aef14c4798947ffeb7e35f3892@portal.unila.edu.br
CREATED;VALUE=DATE-TIME:20240816T172039Z
DESCRIPTION:El Colectivo de Estudiantes Paraguayos de la UNILA promueve la
  muestra de cortometraje\, ronda de debate y lectura de poesía “La Asun
 ción clandestina de Carmen Soler”\, que se llevará a cabo el 23 de ago
 sto\, a las 17h30\, en el auditorio del Campus Integração.
LAST-MODIFIED;VALUE=DATE-TIME:20240816T172047Z
LOCATION:Auditório Campus Integração – UNILA - Avenida Tancredo Neves
 \, 3147 - Porto Belo
URL:https://portal.unila.edu.br/eventos/cultura-paraguaya-muestra-de-corto
 metraje-ronda-de-debate-y-lectura-de-poesia
END:VEVENT
BEGIN:VTIMEZONE
TZID:America/Buenos_Aires
X-LIC-LOCATION:America/Buenos_Aires
BEGIN:STANDARD
DTSTART;VALUE=DATE-TIME:20090314T230000
TZNAME:ART
TZOFFSETFROM:-0200
TZOFFSETTO:-0300
END:STANDARD
END:VTIMEZONE
END:VCALENDAR
