BEGIN:VCALENDAR
VERSION:2.0
PRODID:-//Plone.org//NONSGML plone.app.event//EN
X-WR-TIMEZONE:America/Buenos_Aires
BEGIN:VEVENT
SUMMARY:Cooperação entre Brasil e Haiti
DTSTART;TZID=America/Buenos_Aires;VALUE=DATE-TIME:20231104T100000
DTSTAMP;VALUE=DATE-TIME:20260423T210140Z
UID:4843ca3d568546e7b8a62a5467c71b8d@portal.unila.edu.br
CREATED;VALUE=DATE-TIME:20231027T160615Z
DESCRIPTION:Campus Integração receberá\, no dia 4 de novembro\, a apres
 entação do projeto-piloto de um plano de bem-estar social para o Haiti\,
  elaborado por estudantes e profissionais haitianos no Brasil.
LAST-MODIFIED;VALUE=DATE-TIME:20231027T160623Z
LOCATION:Auditório da UNILA-Campus Integração
URL:https://portal.unila.edu.br/eventos/cooperacao-entre-brasil-e-haiti
END:VEVENT
BEGIN:VTIMEZONE
TZID:America/Buenos_Aires
X-LIC-LOCATION:America/Buenos_Aires
BEGIN:STANDARD
DTSTART;VALUE=DATE-TIME:20090314T230000
TZNAME:ART
TZOFFSETFROM:-0200
TZOFFSETTO:-0300
END:STANDARD
END:VTIMEZONE
END:VCALENDAR
