BEGIN:VCALENDAR
VERSION:2.0
PRODID:-//Plone.org//NONSGML plone.app.event//EN
X-WR-TIMEZONE:America/Buenos_Aires
BEGIN:VEVENT
SUMMARY:Conversas sobre a África - "Literatura e História de Mulheres na
 s Áfricas"
DTSTART;TZID=America/Buenos_Aires;VALUE=DATE-TIME:20230519T190000
DTSTAMP;VALUE=DATE-TIME:20260424T112603Z
UID:ded19064762f4b599472fcb1c3d87b16@portal.unila.edu.br
CONTACT:https://sig.unila.edu.br/sigaa/link/public/extensao/visualizacaoAc
 aoExtensao/91795966
CREATED;VALUE=DATE-TIME:20230512T134250Z
DESCRIPTION:Conferência intitulada será proferida pela professora Tathia
 na Cassiano\, doutoranda em História na Universidade do Estado de Santa C
 atarina
LAST-MODIFIED;VALUE=DATE-TIME:20230512T134311Z
LOCATION:Online
URL:https://portal.unila.edu.br/eventos/conversas-sobre-a-africa-literatur
 a-e-historia-de-mulheres-nas-africas
END:VEVENT
BEGIN:VTIMEZONE
TZID:America/Buenos_Aires
X-LIC-LOCATION:America/Buenos_Aires
BEGIN:STANDARD
DTSTART;VALUE=DATE-TIME:20090314T230000
TZNAME:ART
TZOFFSETFROM:-0200
TZOFFSETTO:-0300
END:STANDARD
END:VTIMEZONE
END:VCALENDAR
