BEGIN:VCALENDAR
VERSION:2.0
PRODID:-//Plone.org//NONSGML plone.app.event//EN
X-WR-TIMEZONE:America/Buenos_Aires
BEGIN:VEVENT
SUMMARY:Congresso Latino-Americano de Direitos Humanos: velhos desafios\, 
 outros olhares
DTSTART;VALUE=DATE:20220919
DTEND;VALUE=DATE:20220924
DTSTAMP;VALUE=DATE-TIME:20260424T010823Z
UID:a415309534f1433394d197a5022d3225@portal.unila.edu.br
CONTACT:anaxsuell.silva@unila.edu.br\, https://www.instagram.com/direitosh
 umanos_unila/
CREATED;VALUE=DATE-TIME:20220915T162210Z
LAST-MODIFIED;VALUE=DATE-TIME:20220915T162315Z
LOCATION:Unidade Jardim Universitário (UNILA) e Fundação Cultural
URL:https://portal.unila.edu.br/eventos/congresso-latino-americano-de-dire
 itos-humanos-velhos-desafios-outros-olhares
END:VEVENT
END:VCALENDAR
