BEGIN:VCALENDAR
VERSION:2.0
PRODID:-//Plone.org//NONSGML plone.app.event//EN
X-WR-TIMEZONE:America/Buenos_Aires
BEGIN:VEVENT
SUMMARY:Congresso Basura Cero Latam
DTSTART;TZID=America/Buenos_Aires;VALUE=DATE-TIME:20220602T080000
DTEND;TZID=America/Buenos_Aires;VALUE=DATE-TIME:20220602T100000
DTSTAMP;VALUE=DATE-TIME:20260424T084203Z
UID:1582ec6cce0e4ee39f582bce0fce8b40@portal.unila.edu.br
CONTACT:https://basuracerolatam.org/
CREATED;VALUE=DATE-TIME:20220520T135323Z
LAST-MODIFIED;VALUE=DATE-TIME:20220520T135329Z
LOCATION:Auditório do Jardim Universitário
URL:https://portal.unila.edu.br/eventos/congresso-basura-cero-latam
END:VEVENT
BEGIN:VTIMEZONE
TZID:America/Buenos_Aires
X-LIC-LOCATION:America/Buenos_Aires
BEGIN:STANDARD
DTSTART;VALUE=DATE-TIME:20090314T230000
TZNAME:ART
TZOFFSETFROM:-0200
TZOFFSETTO:-0300
END:STANDARD
END:VTIMEZONE
END:VCALENDAR
