BEGIN:VCALENDAR
VERSION:2.0
PRODID:-//Plone.org//NONSGML plone.app.event//EN
X-WR-TIMEZONE:America/Buenos_Aires
BEGIN:VEVENT
SUMMARY:Conferência "Mito e natureza - Austrália e Alemanha em foco"
DTSTART;TZID=America/Buenos_Aires;VALUE=DATE-TIME:20250814T183000
DTEND;TZID=America/Buenos_Aires;VALUE=DATE-TIME:20250814T220000
DTSTAMP;VALUE=DATE-TIME:20260424T101844Z
UID:a4e6fe1dfabf4b8ca7002c0295f1aaf7@portal.unila.edu.br
CREATED;VALUE=DATE-TIME:20250812T184215Z
LAST-MODIFIED;VALUE=DATE-TIME:20250813T151843Z
LOCATION:UNILA - Campus Integração
URL:https://portal.unila.edu.br/eventos/conferencia-mito-e-natureza-austra
 lia-e-alemanha-em-foco
END:VEVENT
BEGIN:VTIMEZONE
TZID:America/Buenos_Aires
X-LIC-LOCATION:America/Buenos_Aires
BEGIN:STANDARD
DTSTART;VALUE=DATE-TIME:20090314T230000
TZNAME:ART
TZOFFSETFROM:-0200
TZOFFSETTO:-0300
END:STANDARD
END:VTIMEZONE
END:VCALENDAR
