BEGIN:VCALENDAR
VERSION:2.0
PRODID:-//Plone.org//NONSGML plone.app.event//EN
X-WR-TIMEZONE:America/Buenos_Aires
BEGIN:VEVENT
SUMMARY:Conferência: "As independências da América como revoluções do
  tempo"
DTSTART;TZID=America/Sao_Paulo;VALUE=DATE-TIME:20190904T190000
DTEND;TZID=America/Sao_Paulo;VALUE=DATE-TIME:20190904T220000
DTSTAMP;VALUE=DATE-TIME:20260423T225103Z
UID:ec923407be9d4eafa6fff0fe7bb4635c@portal.unila.edu.br
CATEGORIES:mestrado história
CONTACT:https://adhilac-brasil.org/
CREATED;VALUE=DATE-TIME:20190828T132339Z
DESCRIPTION:A conferência inaugura a primeira turma do Programa de Pós-G
 raduação em História (PPGHIS)
LAST-MODIFIED;VALUE=DATE-TIME:20190904T143325Z
LOCATION:Sala G-101\, Unila-Jardim Universitário  (Avenida Tarquínio Jos
 lin dos Santos\, 1000
URL:https://portal.unila.edu.br/eventos/conferencia-inaugural-do-programa-
 de-pos-graduacao-em-historia
END:VEVENT
BEGIN:VTIMEZONE
TZID:America/Sao_Paulo
X-LIC-LOCATION:America/Sao_Paulo
BEGIN:STANDARD
DTSTART;VALUE=DATE-TIME:20190216T230000
TZNAME:BRT
TZOFFSETFROM:-0200
TZOFFSETTO:-0300
END:STANDARD
END:VTIMEZONE
END:VCALENDAR
