BEGIN:VCALENDAR
VERSION:2.0
PRODID:-//Plone.org//NONSGML plone.app.event//EN
X-WR-TIMEZONE:America/Buenos_Aires
BEGIN:VEVENT
SUMMARY:Concierto didáctico: "Gualambao\, Mboyere musical en la triple fr
 ontera"
DTSTART;TZID=America/Buenos_Aires;VALUE=DATE-TIME:20230427T190000
DTSTAMP;VALUE=DATE-TIME:20260424T112623Z
UID:9b4a11e657484691ad1549e276976bf0@portal.unila.edu.br
CREATED;VALUE=DATE-TIME:20230426T142836Z
DESCRIPTION:Segundo evento do Ciclo de conciertos y charlas musicales en l
 a triple frontera será realizado por Sebastián Pereyra
LAST-MODIFIED;VALUE=DATE-TIME:20230426T142842Z
LOCATION:UNILA - Jardim Universitário - Sala C203
URL:https://portal.unila.edu.br/eventos/concierto-didactico-gualambao-mboy
 ere-musical-en-la-triple-frontera
END:VEVENT
BEGIN:VTIMEZONE
TZID:America/Buenos_Aires
X-LIC-LOCATION:America/Buenos_Aires
BEGIN:STANDARD
DTSTART;VALUE=DATE-TIME:20090314T230000
TZNAME:ART
TZOFFSETFROM:-0200
TZOFFSETTO:-0300
END:STANDARD
END:VTIMEZONE
END:VCALENDAR
