BEGIN:VCALENDAR
VERSION:2.0
PRODID:-//Plone.org//NONSGML plone.app.event//EN
X-WR-TIMEZONE:America/Buenos_Aires
BEGIN:VEVENT
SUMMARY:Título de Doutor Honoris Causa a Aluízio Ferreira Palmar
DTSTART;TZID=America/Buenos_Aires;VALUE=DATE-TIME:20250926T160000
DTSTAMP;VALUE=DATE-TIME:20260423T225012Z
UID:f04635a166dc486c9fe7b1ce92c231d3@portal.unila.edu.br
CREATED;VALUE=DATE-TIME:20250908T174713Z
DESCRIPTION:Dia 26 de setembro a UNILA realizará concessão de Título de
  Doutor Honoris Causa a Aluízio Ferreira Palmar.
LAST-MODIFIED;VALUE=DATE-TIME:20250916T131503Z
LOCATION:UNILA - Jardim Universitário
URL:https://portal.unila.edu.br/eventos/concessao-de-titulo-de-doutor-hono
 ris-causa
END:VEVENT
BEGIN:VTIMEZONE
TZID:America/Buenos_Aires
X-LIC-LOCATION:America/Buenos_Aires
BEGIN:STANDARD
DTSTART;VALUE=DATE-TIME:20090314T230000
TZNAME:ART
TZOFFSETFROM:-0200
TZOFFSETTO:-0300
END:STANDARD
END:VTIMEZONE
END:VCALENDAR
