BEGIN:VCALENDAR
VERSION:2.0
PRODID:-//Plone.org//NONSGML plone.app.event//EN
X-WR-TIMEZONE:America/Buenos_Aires
BEGIN:VEVENT
SUMMARY:Concerto Impresiones Sonoras
DTSTART;TZID=America/Buenos_Aires;VALUE=DATE-TIME:20240725T193000
DTEND;TZID=America/Buenos_Aires;VALUE=DATE-TIME:20240725T223000
DTSTAMP;VALUE=DATE-TIME:20260423T123606Z
UID:be0e853d85c546dc9cae29d15c1eceb6@portal.unila.edu.br
CREATED;VALUE=DATE-TIME:20240723T171705Z
DESCRIPTION:Viviana Matschulat e Rodrigo Báez apresentam-se na UNILA - Ja
 rdim Universitário
LAST-MODIFIED;VALUE=DATE-TIME:20240723T172309Z
LOCATION:UNILA - Jardim Universitário sala C 203
URL:https://portal.unila.edu.br/eventos/concerto-impresiones-sonoras
END:VEVENT
BEGIN:VTIMEZONE
TZID:America/Buenos_Aires
X-LIC-LOCATION:America/Buenos_Aires
BEGIN:STANDARD
DTSTART;VALUE=DATE-TIME:20090314T230000
TZNAME:ART
TZOFFSETFROM:-0200
TZOFFSETTO:-0300
END:STANDARD
END:VTIMEZONE
END:VCALENDAR
