BEGIN:VCALENDAR
VERSION:2.0
PRODID:-//Plone.org//NONSGML plone.app.event//EN
X-WR-TIMEZONE:America/Buenos_Aires
BEGIN:VEVENT
SUMMARY:Concerto de professores da UNILA
DTSTART;TZID=America/Sao_Paulo;VALUE=DATE-TIME:20190314T193000
DTEND;TZID=America/Sao_Paulo;VALUE=DATE-TIME:20190314T223000
DTSTAMP;VALUE=DATE-TIME:20260424T084159Z
UID:def318ce664c40b8a4a14d74e89dd275@portal.unila.edu.br
CREATED;VALUE=DATE-TIME:20190313T184508Z
DESCRIPTION:Projeto Ciclo Sonoro retoma as atividades em 2019\, com uma ap
 resentação musical feita pelos docentes da Universidade
LAST-MODIFIED;VALUE=DATE-TIME:20190313T184513Z
LOCATION:Jardim Universitário - Sala C203 - (Avenida Tarquínio Joslin do
 s Santos\, 1000)
URL:https://portal.unila.edu.br/eventos/concerto-de-professores-da-unila
END:VEVENT
BEGIN:VTIMEZONE
TZID:America/Sao_Paulo
X-LIC-LOCATION:America/Sao_Paulo
BEGIN:STANDARD
DTSTART;VALUE=DATE-TIME:20190216T230000
TZNAME:BRT
TZOFFSETFROM:-0200
TZOFFSETTO:-0300
END:STANDARD
END:VTIMEZONE
END:VCALENDAR
