BEGIN:VCALENDAR
VERSION:2.0
PRODID:-//Plone.org//NONSGML plone.app.event//EN
X-WR-TIMEZONE:America/Buenos_Aires
BEGIN:VEVENT
SUMMARY:Comissão Consular Haitiana e Painel em homenagem à Batalha de Ve
 rtières
DTSTART;VALUE=DATE:20251117
DTEND;VALUE=DATE:20251119
DTSTAMP;VALUE=DATE-TIME:20260423T225832Z
UID:a0fbe4cd084548d2a741147be967b8bd@portal.unila.edu.br
CREATED;VALUE=DATE-TIME:20251031T125918Z
DESCRIPTION:Nos dias 17 e 18 de novembro\, a Embaixada do Haiti irá reali
 zar atendimento consular a estudantes e comunidade haitiana\, no Campus In
 tegração. No dia 18\, haverá um painel em homenagem à Batalha de Verti
 ères.
LAST-MODIFIED;VALUE=DATE-TIME:20251031T132024Z
LOCATION:UNILA - Campus Integração
URL:https://portal.unila.edu.br/eventos/comissao-consular-haitiana-e-paine
 l-em-homenagem-a-batalha-de-vertieres
END:VEVENT
END:VCALENDAR
