BEGIN:VCALENDAR
VERSION:2.0
PRODID:-//Plone.org//NONSGML plone.app.event//EN
X-WR-TIMEZONE:America/Buenos_Aires
BEGIN:VEVENT
SUMMARY:Colóquio Estudos de Gênero UFPR-UNILA: Diálogos interdisciplina
 res
DTSTART;VALUE=DATE:20230817
DTEND;VALUE=DATE:20230819
DTSTAMP;VALUE=DATE-TIME:20260423T225514Z
UID:0eceecd982364424b5abac955ef78530@portal.unila.edu.br
CREATED;VALUE=DATE-TIME:20230815T162944Z
DESCRIPTION:Colóquio organizado por docentes e pesquisadoras da Universid
 ade Federal do Paraná e da Universidade Federal da Integração Latino-Am
 ericana acontece nos dias 17 e 18 de agosto
LAST-MODIFIED;VALUE=DATE-TIME:20230815T162949Z
LOCATION:UNILA - Jardim Universitário
URL:https://portal.unila.edu.br/eventos/coloquio-estudos-de-genero-ufpr-un
 ila-dialogos-interdisciplinares
END:VEVENT
END:VCALENDAR
