BEGIN:VCALENDAR
VERSION:2.0
PRODID:-//Plone.org//NONSGML plone.app.event//EN
X-WR-TIMEZONE:America/Buenos_Aires
BEGIN:VEVENT
SUMMARY:Circuito de escuta e interação
DTSTART;TZID=America/Buenos_Aires;VALUE=DATE-TIME:20250430T150000
DTEND;TZID=America/Buenos_Aires;VALUE=DATE-TIME:20250430T170000
DTSTAMP;VALUE=DATE-TIME:20260423T133513Z
UID:0599223e2d7d46b79a8a04b1b9a27c53@portal.unila.edu.br
CREATED;VALUE=DATE-TIME:20250429T153943Z
DESCRIPTION:Roda de conversa sobre saúde mental na vida acadêmica\, com 
 foco na prevenção do Burnout\, será realizada no Jardim Universitário\
 , no dia 30 de abril\, das 15h às 17h.
LAST-MODIFIED;VALUE=DATE-TIME:20250429T161548Z
LOCATION:UNILA - Jardim Universitário
URL:https://portal.unila.edu.br/eventos/circuito-de-escuta-e-interacao
END:VEVENT
BEGIN:VTIMEZONE
TZID:America/Buenos_Aires
X-LIC-LOCATION:America/Buenos_Aires
BEGIN:STANDARD
DTSTART;VALUE=DATE-TIME:20090314T230000
TZNAME:ART
TZOFFSETFROM:-0200
TZOFFSETTO:-0300
END:STANDARD
END:VTIMEZONE
END:VCALENDAR
