BEGIN:VCALENDAR
VERSION:2.0
PRODID:-//Plone.org//NONSGML plone.app.event//EN
X-WR-TIMEZONE:America/Buenos_Aires
BEGIN:VEVENT
SUMMARY:Circuito de escuta e interação
DTSTART;TZID=America/Buenos_Aires;VALUE=DATE-TIME:20250611T150000
DTSTAMP;VALUE=DATE-TIME:20260423T085429Z
UID:be3d4e3c7e2f40ef8fe7c68610843a73@portal.unila.edu.br
CREATED;VALUE=DATE-TIME:20250602T143823Z
DESCRIPTION:Último encontro do Circuito de Escuta e Interação ocorre no
  dia 11 de junho\, no Jardim Universitário\, e terá como tema “Saúde 
 Mental nos Estudos”.
LAST-MODIFIED;VALUE=DATE-TIME:20250609T113913Z
URL:https://portal.unila.edu.br/eventos/circuito-de-escuta-e-interacao-2
END:VEVENT
BEGIN:VTIMEZONE
TZID:America/Buenos_Aires
X-LIC-LOCATION:America/Buenos_Aires
BEGIN:STANDARD
DTSTART;VALUE=DATE-TIME:20090314T230000
TZNAME:ART
TZOFFSETFROM:-0200
TZOFFSETTO:-0300
END:STANDARD
END:VTIMEZONE
END:VCALENDAR
