BEGIN:VCALENDAR
VERSION:2.0
PRODID:-//Plone.org//NONSGML plone.app.event//EN
X-WR-TIMEZONE:America/Buenos_Aires
BEGIN:VEVENT
SUMMARY:Exibição dos filmes "A cor do seu destino" e "Caburé"
DTSTART;TZID=America/Sao_Paulo;VALUE=DATE-TIME:20190827T193000
DTEND;TZID=America/Sao_Paulo;VALUE=DATE-TIME:20190827T213000
DTSTAMP;VALUE=DATE-TIME:20260423T225112Z
UID:40077d29df9540998a7a280710078dc3@portal.unila.edu.br
CONTACT:https://www.facebook.com/events/663500997464783/?ti=cl
CREATED;VALUE=DATE-TIME:20190827T130600Z
DESCRIPTION:Evento abre ciclo de exibições e debates organizados pelo pr
 ojeto Cinestésicos
LAST-MODIFIED;VALUE=DATE-TIME:20190827T180746Z
LOCATION:Sudacas Bar (Avenida República Argentina\, 1106)
URL:https://portal.unila.edu.br/eventos/cinestesicos-a-cor-do-seu-destino-
 cabure
END:VEVENT
BEGIN:VTIMEZONE
TZID:America/Sao_Paulo
X-LIC-LOCATION:America/Sao_Paulo
BEGIN:STANDARD
DTSTART;VALUE=DATE-TIME:20190216T230000
TZNAME:BRT
TZOFFSETFROM:-0200
TZOFFSETTO:-0300
END:STANDARD
END:VTIMEZONE
END:VCALENDAR
