BEGIN:VCALENDAR
VERSION:2.0
PRODID:-//Plone.org//NONSGML plone.app.event//EN
X-WR-TIMEZONE:America/Buenos_Aires
BEGIN:VEVENT
SUMMARY:Cinelatino: Exibição e debate do filme "Codinome Clemente"
DTSTART;TZID=America/Sao_Paulo;VALUE=DATE-TIME:20210401T190000
DTEND;TZID=America/Sao_Paulo;VALUE=DATE-TIME:20210401T220000
DTSTAMP;VALUE=DATE-TIME:20260422T154406Z
UID:960c0aafc8c14a4cb8e6673af3baf3c6@portal.unila.edu.br
CREATED;VALUE=DATE-TIME:20210331T140608Z
LAST-MODIFIED;VALUE=DATE-TIME:20210331T222944Z
LOCATION:bit.ly/debatecodinomeclemente
URL:https://portal.unila.edu.br/eventos/cinelatino-exibicao-e-debate-do-fi
 lme-codinome-clemente
END:VEVENT
BEGIN:VTIMEZONE
TZID:America/Sao_Paulo
X-LIC-LOCATION:America/Sao_Paulo
BEGIN:STANDARD
DTSTART;VALUE=DATE-TIME:20210220T230000
TZNAME:BRT
TZOFFSETFROM:-0200
TZOFFSETTO:-0300
END:STANDARD
END:VTIMEZONE
END:VCALENDAR
