BEGIN:VCALENDAR
VERSION:2.0
PRODID:-//Plone.org//NONSGML plone.app.event//EN
X-WR-TIMEZONE:America/Buenos_Aires
BEGIN:VEVENT
SUMMARY:Cinelatino: exibição do filme "No coração do mundo
DTSTART;TZID=America/Sao_Paulo;VALUE=DATE-TIME:20191029T190000
DTEND;TZID=America/Sao_Paulo;VALUE=DATE-TIME:20191029T210000
DTSTAMP;VALUE=DATE-TIME:20260424T124521Z
UID:a87163c2aabc4ef98df12adb48f1731d@portal.unila.edu.br
CATEGORIES:cinema
CREATED;VALUE=DATE-TIME:20191024T121337Z
DESCRIPTION:O Cineclube Cinelatino exibe o filme "No coração do mundo"\,
  uma crônica do cotidiano em Contagem (MG)
LAST-MODIFIED;VALUE=DATE-TIME:20191025T115643Z
LOCATION:Cine Cataratas - Cataratas JL Shopping (Avenida Costa e Silva\, 1
 85)
URL:https://portal.unila.edu.br/eventos/cinelatino-exibicao-do-filme-no-co
 racao-do-mundo
END:VEVENT
BEGIN:VTIMEZONE
TZID:America/Sao_Paulo
X-LIC-LOCATION:America/Sao_Paulo
BEGIN:DAYLIGHT
DTSTART;VALUE=DATE-TIME:20191020T010000
TZNAME:BRST
TZOFFSETFROM:-0300
TZOFFSETTO:-0200
END:DAYLIGHT
END:VTIMEZONE
END:VCALENDAR
