BEGIN:VCALENDAR
VERSION:2.0
PRODID:-//Plone.org//NONSGML plone.app.event//EN
X-WR-TIMEZONE:America/Buenos_Aires
BEGIN:VEVENT
SUMMARY:Cinelatino: exibição de "Estou me guardando para quando o carnav
 al chegar"
DTSTART;TZID=America/Sao_Paulo;VALUE=DATE-TIME:20191122T190000
DTEND;TZID=America/Sao_Paulo;VALUE=DATE-TIME:20191122T220000
DTSTAMP;VALUE=DATE-TIME:20260423T225707Z
UID:cf61adce907d4e3c94c39273bf5f13e6@portal.unila.edu.br
CATEGORIES:cinema
CREATED;VALUE=DATE-TIME:20191120T120352Z
DESCRIPTION:Documentário do diretor Marcelo Gomes será exibido\, em sess
 ão única\, no dia 22 de novembro
LAST-MODIFIED;VALUE=DATE-TIME:20191120T143219Z
LOCATION:Auditório da UNILA-Jardim Universitário (Avenida Tarquínio Jos
 lin dos Santos\, 1000)
URL:https://portal.unila.edu.br/eventos/cinelatino-exibicao-de-estou-me-gu
 ardando-para-quando-o-carnaval-chegar
END:VEVENT
BEGIN:VTIMEZONE
TZID:America/Sao_Paulo
X-LIC-LOCATION:America/Sao_Paulo
BEGIN:DAYLIGHT
DTSTART;VALUE=DATE-TIME:20191020T010000
TZNAME:BRST
TZOFFSETFROM:-0300
TZOFFSETTO:-0200
END:DAYLIGHT
END:VTIMEZONE
END:VCALENDAR
