BEGIN:VCALENDAR
VERSION:2.0
PRODID:-//Plone.org//NONSGML plone.app.event//EN
X-WR-TIMEZONE:America/Buenos_Aires
BEGIN:VEVENT
SUMMARY:Cinelatino: debate sobre o filme "A Febre"
DTSTART;TZID=America/Sao_Paulo;VALUE=DATE-TIME:20210902T190000
DTEND;TZID=America/Sao_Paulo;VALUE=DATE-TIME:20210902T220000
DTSTAMP;VALUE=DATE-TIME:20260424T112425Z
UID:746d7002d6014d91bb86ac5eda5ca7b7@portal.unila.edu.br
CREATED;VALUE=DATE-TIME:20210830T135804Z
DESCRIPTION:Evento será nesta quinta-feira (2)\, às 19h\; longa-metragem
  estará disponível para acesso gratuito entre 31 de agosto e 2 de setemb
 ro
LAST-MODIFIED;VALUE=DATE-TIME:20210902T124236Z
URL:https://portal.unila.edu.br/eventos/cinelatino-debate-sobre-o-filme-a-
 febre
END:VEVENT
BEGIN:VTIMEZONE
TZID:America/Sao_Paulo
X-LIC-LOCATION:America/Sao_Paulo
BEGIN:STANDARD
DTSTART;VALUE=DATE-TIME:20210220T230000
TZNAME:BRT
TZOFFSETFROM:-0200
TZOFFSETTO:-0300
END:STANDARD
END:VTIMEZONE
END:VCALENDAR
